BEGIN:VCALENDAR
VERSION:2.0
PRODID:-//Squarespace Inc/Squarespace 6//v6//EN
BEGIN:VEVENT
UID:5c0874918a922d9e788e4e86@squarespace.com
DTSTAMP:20181206T010517Z
DTSTART:20181209T140000Z
DTEND:20181209T180000Z
SUMMARY:Aireys Inlet Market
END:VEVENT
END:VCALENDAR
