BEGIN:VCALENDAR
VERSION:2.0
PRODID:-//Squarespace Inc/Squarespace 6//v6//EN
BEGIN:VEVENT
UID:5c08736b032be44dcbee1236@squarespace.com
DTSTAMP:20181206T005801Z
DTSTART:20180518T140000Z
DTEND:20180518T173000Z
SUMMARY:U3A Talk
END:VEVENT
END:VCALENDAR
