BEGIN:VCALENDAR
VERSION:2.0
PRODID:-//Squarespace Inc/Squarespace 6//v6//EN
BEGIN:VEVENT
UID:5ce770f4e5e5f0fb4b72c545@squarespace.com
DTSTAMP:20190729T005406Z
DTSTART:20190914T220000Z
DTEND:20190914T230000Z
SUMMARY:Eltham Book Shop
END:VEVENT
END:VCALENDAR
