BEGIN:VCALENDAR
VERSION:2.0
PRODID:-//Squarespace Inc/Squarespace 6//v6//EN
BEGIN:VEVENT
UID:5ce769888165f54e73bf3362@squarespace.com
DTSTAMP:20190524T035838Z
DTSTART:20190614T220000Z
DTEND:20190614T230000Z
SUMMARY:Blarney Books and Art
GEO:-38.38245;142.23476
LOCATION:Blarney Books and Art\, 37 James Street\, Port Fairy\, VIC\, 3284\
 , Australia
END:VEVENT
END:VCALENDAR
